

BEGIN:VCALENDAR
VERSION:2.0
PRODID:-//UDC Suisse //NONSGML Events //EN
CALSCALE:GREGORIAN
X-WR-CALNAME:UDC Suisse
BEGIN:VEVENT
CREATED:20230914T113239Z
UID:120967
DTEND:20231017T200000
DTSTART:20231017T180000
DTSTAMP:20260421T105154Z
LOCATION:Cotton Pub\, Rue Louis-Duchosal 4\, 1207 Genève
DESCRIPTION:
SUMMARY:UDC GE: Apéros-échanges avec Céline Amaudruz et les candidats UDC au Conseil national
ORGANIZER:
URL;VALUE=URI:https://www.udc.ch/actualites/agenda/udc-ge-aperos-echanges-avec-celine-amaudruz-et-les-candidats-udc-au-conseil-national-6/
TRANSP:OPAQUE
END:VEVENT
END:VCALENDAR
