

BEGIN:VCALENDAR
VERSION:2.0
PRODID:-//UDC Suisse //NONSGML Events //EN
CALSCALE:GREGORIAN
X-WR-CALNAME:UDC Suisse
BEGIN:VEVENT
CREATED:20230914T113416Z
UID:120969
DTEND:20231012T200000
DTSTART:20231012T180000
DTSTAMP:20260421T061323Z
LOCATION:Brasserie la Bourse Carouge\, Place du Marché 7\, 1227 Carouge
DESCRIPTION:
SUMMARY:UDC GE: Apéros-échanges avec Céline Amaudruz et les candidats UDC au Conseil national
ORGANIZER:
URL;VALUE=URI:https://www.udc.ch/actualites/agenda/udc-ge-aperos-echanges-avec-celine-amaudruz-et-les-candidats-udc-au-conseil-national-7/
TRANSP:OPAQUE
END:VEVENT
END:VCALENDAR
