

BEGIN:VCALENDAR
VERSION:2.0
PRODID:-//UDC Suisse //NONSGML Events //EN
CALSCALE:GREGORIAN
X-WR-CALNAME:UDC Suisse
BEGIN:VEVENT
CREATED:20230914T113839Z
UID:120973
DTEND:20231003T200000
DTSTART:20231003T180000
DTSTAMP:20260420T225450Z
LOCATION:Restaurant le Bistro\, Place du Petit-Saconnex 4\, 1209 Genève
DESCRIPTION:
SUMMARY:UDC GE: Apéros-échanges avec Céline Amaudruz et les candidats UDC au Conseil national
ORGANIZER:
URL;VALUE=URI:https://www.udc.ch/actualites/agenda/udc-ge-aperos-echanges-avec-celine-amaudruz-et-les-candidats-udc-au-conseil-national-9/
TRANSP:OPAQUE
END:VEVENT
END:VCALENDAR
