

BEGIN:VCALENDAR
VERSION:2.0
PRODID:-//UDC Suisse //NONSGML Events //EN
CALSCALE:GREGORIAN
X-WR-CALNAME:UDC Suisse
BEGIN:VEVENT
CREATED:20230914T114005Z
UID:120975
DTEND:20231005T200000
DTSTART:20231005T180000
DTSTAMP:20260420T190323Z
LOCATION:Clos du Château\, Route du Crêt-de-Choully 29\, 1242 Satigny
DESCRIPTION:
SUMMARY:UDC GE: Apéros-échanges avec Céline Amaudruz et les candidats UDC au Conseil national
ORGANIZER:
URL;VALUE=URI:https://www.udc.ch/actualites/agenda/udc-ge-aperos-echanges-avec-celine-amaudruz-et-les-candidats-udc-au-conseil-national-10/
TRANSP:OPAQUE
END:VEVENT
END:VCALENDAR
