

BEGIN:VCALENDAR
VERSION:2.0
PRODID:-//UDC Suisse //NONSGML Events //EN
CALSCALE:GREGORIAN
X-WR-CALNAME:UDC Suisse
BEGIN:VEVENT
CREATED:20230919T110726Z
UID:121145
DTEND:20231003T210000
DTSTART:20231003T200000
DTSTAMP:20260420T153329Z
LOCATION:Restaurant zum Schützen\, Aarau
DESCRIPTION:
SUMMARY:UDC proche de vous avec la conseillere nationale Stefanie Heimgartner\, Martina Bircher\, le conseiller national Benjamin Giezendanner\, Alois Huber\, Thomas Burgherr\, Andreas Glarner
ORGANIZER:
URL;VALUE=URI:https://www.udc.ch/actualites/agenda/udc-proche-de-vous-avec-la-conseillere-nationale-stefanie-heimgartner-martina-bircher-le-conseiller-national-benjamin-giezendanner-alois-huber-thomas-burgherr-andreas-glarner/
TRANSP:OPAQUE
END:VEVENT
END:VCALENDAR
