BEGIN:VCALENDAR
VERSION:2.0
PRODID:-//UDC Suisse //NONSGML Events //EN
CALSCALE:GREGORIAN
X-WR-CALNAME:UDC Suisse
BEGIN:VEVENT
CREATED:20230919T110727Z
UID:121147
DTEND:20231111T130000
DTSTART:20231111T120000
DTSTAMP:20231021T125430Z
LOCATION:Dorfplatz\, Urtenen-Schönbühl
DESCRIPTION:
SUMMARY:UDC proche de vous avec la conseillere nationale Andrea Geissbühler
ORGANIZER:
URL;VALUE=URI:https://www.udc.ch/actualites/agenda/udc-proche-de-vous-avec-la-conseillere-nationale-andrea-geissbuhler/
TRANSP:OPAQUE
END:VEVENT
END:VCALENDAR
