

BEGIN:VCALENDAR
VERSION:2.0
PRODID:-//UDC Suisse //NONSGML Events //EN
CALSCALE:GREGORIAN
X-WR-CALNAME:UDC Suisse
BEGIN:VEVENT
CREATED:20230919T110727Z
UID:121148
DTEND:20230926T210000
DTSTART:20230926T200000
DTSTAMP:20260420T191517Z
LOCATION:Hotel Landhaus\, Saanen
DESCRIPTION:
SUMMARY:UDC proche de vous avec le conseiller national Erich von Siebenthal et le conseiller aux états Werner Salzmann
ORGANIZER:
URL;VALUE=URI:https://www.udc.ch/actualites/agenda/udc-proche-de-vous-avec-le-conseiller-national-erich-von-siebenthal-et-le-conseiller-aux-etats-werner-salzmann/
TRANSP:OPAQUE
END:VEVENT
END:VCALENDAR
