

BEGIN:VCALENDAR
VERSION:2.0
PRODID:-//UDC Suisse //NONSGML Events //EN
CALSCALE:GREGORIAN
X-WR-CALNAME:UDC Suisse
BEGIN:VEVENT
CREATED:20230919T110727Z
UID:121149
DTEND:20231003T210000
DTSTART:20231003T200000
DTSTAMP:20260420T205751Z
LOCATION:Lochmatte Träff\, Därstetten
DESCRIPTION:
SUMMARY:UDC proche de vous avec le conseiller national Erich Hess
ORGANIZER:
URL;VALUE=URI:https://www.udc.ch/actualites/agenda/udc-proche-de-vous-avec-le-conseiller-national-erich-hess-2/
TRANSP:OPAQUE
END:VEVENT
END:VCALENDAR
