

BEGIN:VCALENDAR
VERSION:2.0
PRODID:-//UDC Suisse //NONSGML Events //EN
CALSCALE:GREGORIAN
X-WR-CALNAME:UDC Suisse
BEGIN:VEVENT
CREATED:20230919T110727Z
UID:121150
DTEND:20231002T200000
DTSTART:20231002T193000
DTSTAMP:20260420T114643Z
LOCATION:Restaurant Bären\, Niederbipp
DESCRIPTION:
SUMMARY:UDC proche de vous avec la conseillere nationale Nadja Umbricht Pieren et le conseiller aux états Werner Salzmann
ORGANIZER:
URL;VALUE=URI:https://www.udc.ch/actualites/agenda/udc-proche-de-vous-avec-la-conseillere-nationale-nadja-umbricht-pieren-et-le-conseiller-aux-etats-werner-salzmann/
TRANSP:OPAQUE
END:VEVENT
END:VCALENDAR
