

BEGIN:VCALENDAR
VERSION:2.0
PRODID:-//UDC Suisse //NONSGML Events //EN
CALSCALE:GREGORIAN
X-WR-CALNAME:UDC Suisse
BEGIN:VEVENT
CREATED:20230919T110727Z
UID:121151
DTEND:20231019T210000
DTSTART:20231019T200000
DTSTAMP:20260420T114548Z
LOCATION:Markhalle\, Burgdorf
DESCRIPTION:
SUMMARY:UDC proche de vous avec le conseiller national Andreas Aebi
ORGANIZER:
URL;VALUE=URI:https://www.udc.ch/actualites/agenda/udc-proche-de-vous-avec-le-conseiller-national-andreas-aebi-2/
TRANSP:OPAQUE
END:VEVENT
END:VCALENDAR
