

BEGIN:VCALENDAR
VERSION:2.0
PRODID:-//UDC Suisse //NONSGML Events //EN
CALSCALE:GREGORIAN
X-WR-CALNAME:UDC Suisse
BEGIN:VEVENT
CREATED:20230919T110727Z
UID:121153
DTEND:20230930T120000
DTSTART:20230930T110000
DTSTAMP:20260421T004514Z
LOCATION:Sichlete\, Rämisweg5\, Oberlindach
DESCRIPTION:
SUMMARY:UDC proche de vous avec le conseiller national Lars Guggisberg
ORGANIZER:
URL;VALUE=URI:https://www.udc.ch/actualites/agenda/udc-proche-de-vous-avec-le-conseiller-national-lars-guggisberg-4/
TRANSP:OPAQUE
END:VEVENT
END:VCALENDAR
