

BEGIN:VCALENDAR
VERSION:2.0
PRODID:-//UDC Suisse //NONSGML Events //EN
CALSCALE:GREGORIAN
X-WR-CALNAME:UDC Suisse
BEGIN:VEVENT
CREATED:20230919T110727Z
UID:121154
DTEND:20231005T200000
DTSTART:20231005T193000
DTSTAMP:20260420T205756Z
LOCATION:Salle polyvalente\, Cortébert
DESCRIPTION:
SUMMARY:UDC proche de vous avec le conseiller national Manfred Bühler
ORGANIZER:
URL;VALUE=URI:https://www.udc.ch/actualites/agenda/udc-proche-de-vous-avec-le-conseiller-national-manfred-buhler-2/
TRANSP:OPAQUE
END:VEVENT
END:VCALENDAR
