

BEGIN:VCALENDAR
VERSION:2.0
PRODID:-//UDC Suisse //NONSGML Events //EN
CALSCALE:GREGORIAN
X-WR-CALNAME:UDC Suisse
BEGIN:VEVENT
CREATED:20230919T110727Z
UID:121155
DTEND:20230923T160000
DTSTART:20230923T153000
DTSTAMP:20260420T153354Z
LOCATION:Im Rebberg\, Binningen
DESCRIPTION:
SUMMARY:UDC proche de vous avec la conseillere nationale Sandra Sollberger et le conseiller national Thomas de Courten
ORGANIZER:
URL;VALUE=URI:https://www.udc.ch/actualites/agenda/udc-proche-de-vous-avec-la-conseillere-nationale-sandra-sollberger-et-le-conseiller-national-thomas-de-courten/
TRANSP:OPAQUE
END:VEVENT
END:VCALENDAR
