

BEGIN:VCALENDAR
VERSION:2.0
PRODID:-//UDC Suisse //NONSGML Events //EN
CALSCALE:GREGORIAN
X-WR-CALNAME:UDC Suisse
BEGIN:VEVENT
CREATED:20230919T110727Z
UID:121156
DTEND:20230930T110000
DTSTART:20230930T100000
DTSTAMP:20260420T191617Z
LOCATION:Vor dem Rathaus\, Altstadt Luzern
DESCRIPTION:
SUMMARY:UDC proche de vous avec la conseillere nationale Yvette Estermann
ORGANIZER:
URL;VALUE=URI:https://www.udc.ch/actualites/agenda/udc-proche-de-vous-avec-la-conseillere-nationale-yvette-estermann-3/
TRANSP:OPAQUE
END:VEVENT
END:VCALENDAR
