

BEGIN:VCALENDAR
VERSION:2.0
PRODID:-//UDC Suisse //NONSGML Events //EN
CALSCALE:GREGORIAN
X-WR-CALNAME:UDC Suisse
BEGIN:VEVENT
CREATED:20230919T110728Z
UID:121157
DTEND:20231005T200000
DTSTART:20231005T193000
DTSTAMP:20260420T191612Z
LOCATION:Restaurant Ochsen\, Grosswangen
DESCRIPTION:
SUMMARY:UDC proche de vous avec le conseiller national Franz Grüter
ORGANIZER:
URL;VALUE=URI:https://www.udc.ch/actualites/agenda/udc-proche-de-vous-avec-le-conseiller-national-franz-gruter/
TRANSP:OPAQUE
END:VEVENT
END:VCALENDAR
