

BEGIN:VCALENDAR
VERSION:2.0
PRODID:-//UDC Suisse //NONSGML Events //EN
CALSCALE:GREGORIAN
X-WR-CALNAME:UDC Suisse
BEGIN:VEVENT
CREATED:20230919T110728Z
UID:121158
DTEND:20231002T190000
DTSTART:20231002T180000
DTSTAMP:20260421T004434Z
LOCATION:Auberge de Vandoeuvres\, Vandoeuvres
DESCRIPTION:
SUMMARY:UDC proche de vous avec la conseillere nationale Céline Amaudruz et le conseiller national Thomas Bläsi
ORGANIZER:
URL;VALUE=URI:https://www.udc.ch/actualites/agenda/udc-proche-de-vous-avec-la-conseillere-nationale-celine-amaudruz-et-le-conseiller-national-thomas-blasi/
TRANSP:OPAQUE
END:VEVENT
END:VCALENDAR
