

BEGIN:VCALENDAR
VERSION:2.0
PRODID:-//UDC Suisse //NONSGML Events //EN
CALSCALE:GREGORIAN
X-WR-CALNAME:UDC Suisse
BEGIN:VEVENT
CREATED:20230919T110728Z
UID:121161
DTEND:20230930T100000
DTSTART:20230930T093000
DTSTAMP:20260420T153339Z
LOCATION:Rosenburg (Höfli)\, Stans
DESCRIPTION:
SUMMARY:UDC proche de vous avec le conseiller national Peter Keller
ORGANIZER:
URL;VALUE=URI:https://www.udc.ch/actualites/agenda/udc-proche-de-vous-avec-le-conseiller-national-peter-keller-2/
TRANSP:OPAQUE
END:VEVENT
END:VCALENDAR
