

BEGIN:VCALENDAR
VERSION:2.0
PRODID:-//UDC Suisse //NONSGML Events //EN
CALSCALE:GREGORIAN
X-WR-CALNAME:UDC Suisse
BEGIN:VEVENT
CREATED:20230919T110729Z
UID:121162
DTEND:20231003T190000
DTSTART:20231003T180000
DTSTAMP:20260421T004359Z
LOCATION:Hotel Krone\, Sarnen
DESCRIPTION:
SUMMARY:UDC proche de vous avec la conseillere nationale Monika Rüegger
ORGANIZER:
URL;VALUE=URI:https://www.udc.ch/actualites/agenda/udc-proche-de-vous-avec-la-conseillere-nationale-monika-ruegger/
TRANSP:OPAQUE
END:VEVENT
END:VCALENDAR
