

BEGIN:VCALENDAR
VERSION:2.0
PRODID:-//UDC Suisse //NONSGML Events //EN
CALSCALE:GREGORIAN
X-WR-CALNAME:UDC Suisse
BEGIN:VEVENT
CREATED:20230919T110729Z
UID:121163
DTEND:20230922T190000
DTSTART:20230922T180000
DTSTAMP:20260421T004529Z
LOCATION:Benis Backroad Beiz\, Sils i.D.
DESCRIPTION:
SUMMARY:UDC proche de vous avec la conseillere nationale Magdalena Martullo-Blocher
ORGANIZER:
URL;VALUE=URI:https://www.udc.ch/actualites/agenda/udc-proche-de-vous-avec-la-conseillere-nationale-magdalena-martullo-blocher-4/
TRANSP:OPAQUE
END:VEVENT
END:VCALENDAR
