

BEGIN:VCALENDAR
VERSION:2.0
PRODID:-//UDC Suisse //NONSGML Events //EN
CALSCALE:GREGORIAN
X-WR-CALNAME:UDC Suisse
BEGIN:VEVENT
CREATED:20230919T110729Z
UID:121164
DTEND:20231001T110000
DTSTART:20231001T104500
DTSTAMP:20260421T042523Z
LOCATION:Erntedankfest\, Val Müstair
DESCRIPTION:
SUMMARY:UDC proche de vous avec la conseillere nationale Magdalena Martullo-Blocher
ORGANIZER:
URL;VALUE=URI:https://www.udc.ch/actualites/agenda/udc-proche-de-vous-avec-la-conseillere-nationale-magdalena-martullo-blocher-5/
TRANSP:OPAQUE
END:VEVENT
END:VCALENDAR
