

BEGIN:VCALENDAR
VERSION:2.0
PRODID:-//UDC Suisse //NONSGML Events //EN
CALSCALE:GREGORIAN
X-WR-CALNAME:UDC Suisse
BEGIN:VEVENT
CREATED:20230919T110729Z
UID:121165
DTEND:20231004T130000
DTSTART:20231004T120000
DTSTAMP:20260421T041740Z
LOCATION:Dorfplatz\, Zuoz
DESCRIPTION:
SUMMARY:UDC proche de vous avec la conseillere nationale Magdalena Martullo-Blocher
ORGANIZER:
URL;VALUE=URI:https://www.udc.ch/actualites/agenda/udc-proche-de-vous-avec-la-conseillere-nationale-magdalena-martullo-blocher-6/
TRANSP:OPAQUE
END:VEVENT
END:VCALENDAR
