

BEGIN:VCALENDAR
VERSION:2.0
PRODID:-//UDC Suisse //NONSGML Events //EN
CALSCALE:GREGORIAN
X-WR-CALNAME:UDC Suisse
BEGIN:VEVENT
CREATED:20230919T110729Z
UID:121166
DTEND:20230926T200000
DTSTART:20230926T190000
DTSTAMP:20260421T004439Z
LOCATION:HESO Rythalle\, Solothurn
DESCRIPTION:
SUMMARY:UDC proche de vous avec le conseiller national Christian Imark et Walter Wobmann
ORGANIZER:
URL;VALUE=URI:https://www.udc.ch/actualites/agenda/udc-proche-de-vous-avec-le-conseiller-national-christian-imark-et-walter-wobmann/
TRANSP:OPAQUE
END:VEVENT
END:VCALENDAR
