

BEGIN:VCALENDAR
VERSION:2.0
PRODID:-//UDC Suisse //NONSGML Events //EN
CALSCALE:GREGORIAN
X-WR-CALNAME:UDC Suisse
BEGIN:VEVENT
CREATED:20230919T110729Z
UID:121167
DTEND:20230930T110000
DTSTART:20230930T100000
DTSTAMP:20260421T131735Z
LOCATION:Landgasthof Sonne\, Ebnat-Kappel
DESCRIPTION:
SUMMARY:UDC proche de vous avec la conseillere aux états Esther Friedli
ORGANIZER:
URL;VALUE=URI:https://www.udc.ch/actualites/agenda/udc-proche-de-vous-avec-la-conseillere-aux-etats-esther-friedli-2/
TRANSP:OPAQUE
END:VEVENT
END:VCALENDAR
