

BEGIN:VCALENDAR
VERSION:2.0
PRODID:-//UDC Suisse //NONSGML Events //EN
CALSCALE:GREGORIAN
X-WR-CALNAME:UDC Suisse
BEGIN:VEVENT
CREATED:20230919T110729Z
UID:121168
DTEND:20231010T210000
DTSTART:20231010T200000
DTSTAMP:20260421T041735Z
LOCATION:Restaurant Sedel\, Herisau
DESCRIPTION:
SUMMARY:UDC proche de vous avec le conseiller national Lukas Reimann et Mike Egger
ORGANIZER:
URL;VALUE=URI:https://www.udc.ch/actualites/agenda/udc-proche-de-vous-avec-le-conseiller-national-lukas-reimann-et-mike-egger/
TRANSP:OPAQUE
END:VEVENT
END:VCALENDAR
