

BEGIN:VCALENDAR
VERSION:2.0
PRODID:-//UDC Suisse //NONSGML Events //EN
CALSCALE:GREGORIAN
X-WR-CALNAME:UDC Suisse
BEGIN:VEVENT
CREATED:20230919T110729Z
UID:121170
DTEND:20231005T200000
DTSTART:20231005T193000
DTSTAMP:20260420T114613Z
LOCATION:Restaurant Adler\, Mörschwil
DESCRIPTION:
SUMMARY:UDC proche de vous avec le conseiller national Michael Götte
ORGANIZER:
URL;VALUE=URI:https://www.udc.ch/actualites/agenda/udc-proche-de-vous-avec-le-conseiller-national-michael-gotte-3/
TRANSP:OPAQUE
END:VEVENT
END:VCALENDAR
