

BEGIN:VCALENDAR
VERSION:2.0
PRODID:-//UDC Suisse //NONSGML Events //EN
CALSCALE:GREGORIAN
X-WR-CALNAME:UDC Suisse
BEGIN:VEVENT
CREATED:20230919T110729Z
UID:121171
DTEND:20231001T120000
DTSTART:20231001T110000
DTSTAMP:20260420T153334Z
LOCATION:Chilbi Oberriet
DESCRIPTION:
SUMMARY:UDC proche de vous avec le conseiller national Roland Rino Büchel
ORGANIZER:
URL;VALUE=URI:https://www.udc.ch/actualites/agenda/udc-proche-de-vous-avec-le-conseiller-national-roland-rino-buchel/
TRANSP:OPAQUE
END:VEVENT
END:VCALENDAR
