

BEGIN:VCALENDAR
VERSION:2.0
PRODID:-//UDC Suisse //NONSGML Events //EN
CALSCALE:GREGORIAN
X-WR-CALNAME:UDC Suisse
BEGIN:VEVENT
CREATED:20230919T110730Z
UID:121173
DTEND:20230929T190000
DTSTART:20230929T180000
DTSTAMP:20260421T112941Z
LOCATION:Freier Platz\, Schaffhausen
DESCRIPTION:
SUMMARY:UDC proche de vous avec le conseiller national Thomas Hurter et le conseiller aux états Hannes Germann
ORGANIZER:
URL;VALUE=URI:https://www.udc.ch/actualites/agenda/udc-proche-de-vous-avec-le-conseiller-national-thomas-hurter-et-le-conseiller-aux-etats-hannes-germann/
TRANSP:OPAQUE
END:VEVENT
END:VCALENDAR
