

BEGIN:VCALENDAR
VERSION:2.0
PRODID:-//UDC Suisse //NONSGML Events //EN
CALSCALE:GREGORIAN
X-WR-CALNAME:UDC Suisse
BEGIN:VEVENT
CREATED:20230919T110730Z
UID:121175
DTEND:20230922T170000
DTSTART:20230922T163000
DTSTAMP:20260421T042528Z
LOCATION:Sämannsbrunnen\, Frauenfeld
DESCRIPTION:
SUMMARY:UDC proche de vous avec la conseillere nationale Verena Herzog-Schläpfer et le conseiller national Manuel Strupler
ORGANIZER:
URL;VALUE=URI:https://www.udc.ch/actualites/agenda/udc-proche-de-vous-avec-la-conseillere-nationale-verena-herzog-schlapfer-et-le-conseiller-national-manuel-strupler/
TRANSP:OPAQUE
END:VEVENT
END:VCALENDAR
