

BEGIN:VCALENDAR
VERSION:2.0
PRODID:-//UDC Suisse //NONSGML Events //EN
CALSCALE:GREGORIAN
X-WR-CALNAME:UDC Suisse
BEGIN:VEVENT
CREATED:20230919T110731Z
UID:121176
DTEND:20230929T170000
DTSTART:20230929T160000
DTSTAMP:20260420T172306Z
LOCATION:Wega-Bühne\, Weinfelden
DESCRIPTION:
SUMMARY:UDC proche de vous avec le conseiller aux états Jakob Stark
ORGANIZER:
URL;VALUE=URI:https://www.udc.ch/actualites/agenda/udc-proche-de-vous-avec-le-conseiller-aux-etats-jakob-stark/
TRANSP:OPAQUE
END:VEVENT
END:VCALENDAR
