

BEGIN:VCALENDAR
VERSION:2.0
PRODID:-//UDC Suisse //NONSGML Events //EN
CALSCALE:GREGORIAN
X-WR-CALNAME:UDC Suisse
BEGIN:VEVENT
CREATED:20230919T110731Z
UID:121177
DTEND:20231002T200000
DTSTART:20231002T193000
DTSTAMP:20260421T145906Z
LOCATION:Lorzensaal\, Dorfplatz 3\, Cham
DESCRIPTION:
SUMMARY:UDC proche de vous avec le conseiller national Thomas Aeschi
ORGANIZER:
URL;VALUE=URI:https://www.udc.ch/actualites/agenda/udc-proche-de-vous-avec-le-conseiller-national-thomas-aeschi-3/
TRANSP:OPAQUE
END:VEVENT
END:VCALENDAR
