

BEGIN:VCALENDAR
VERSION:2.0
PRODID:-//UDC Suisse //NONSGML Events //EN
CALSCALE:GREGORIAN
X-WR-CALNAME:UDC Suisse
BEGIN:VEVENT
CREATED:20230919T110731Z
UID:121178
DTEND:20230922T190000
DTSTART:20230922T180000
DTSTAMP:20260421T004404Z
LOCATION:Victor Meili AG\, Schübelbach
DESCRIPTION:
SUMMARY:UDC proche de vous avec le conseiller national Marcel Dettling et Pirmin Schwander
ORGANIZER:
URL;VALUE=URI:https://www.udc.ch/actualites/agenda/udc-proche-de-vous-avec-le-conseiller-national-marcel-dettling-et-pirmin-schwander/
TRANSP:OPAQUE
END:VEVENT
END:VCALENDAR
