

BEGIN:VCALENDAR
VERSION:2.0
PRODID:-//UDC Suisse //NONSGML Events //EN
CALSCALE:GREGORIAN
X-WR-CALNAME:UDC Suisse
BEGIN:VEVENT
CREATED:20230919T110731Z
UID:121179
DTEND:20231005T200000
DTSTART:20231005T193000
DTSTAMP:20260420T153359Z
LOCATION:Seehotel Waldstätterhof\, Brunnen
DESCRIPTION:
SUMMARY:UDC proche de vous avec le conseiller national Marcel Dettling et Pirmin Schwander
ORGANIZER:
URL;VALUE=URI:https://www.udc.ch/actualites/agenda/udc-proche-de-vous-avec-le-conseiller-national-marcel-dettling-et-pirmin-schwander-2/
TRANSP:OPAQUE
END:VEVENT
END:VCALENDAR
