

BEGIN:VCALENDAR
VERSION:2.0
PRODID:-//UDC Suisse //NONSGML Events //EN
CALSCALE:GREGORIAN
X-WR-CALNAME:UDC Suisse
BEGIN:VEVENT
CREATED:20230919T110731Z
UID:121181
DTEND:20231016T100000
DTSTART:20231016T090000
DTSTAMP:20260420T191632Z
LOCATION:Stockmärcht\, Waagtalstrasse\, Unteriberg
DESCRIPTION:
SUMMARY:UDC proche de vous avec le conseiller national Marcel Dettling et Pirmin Schwander
ORGANIZER:
URL;VALUE=URI:https://www.udc.ch/actualites/agenda/udc-proche-de-vous-avec-le-conseiller-national-marcel-dettling-et-pirmin-schwander-4/
TRANSP:OPAQUE
END:VEVENT
END:VCALENDAR
