

BEGIN:VCALENDAR
VERSION:2.0
PRODID:-//UDC Suisse //NONSGML Events //EN
CALSCALE:GREGORIAN
X-WR-CALNAME:UDC Suisse
BEGIN:VEVENT
CREATED:20230919T110732Z
UID:121184
DTEND:20230929T210000
DTSTART:20230929T200000
DTSTAMP:20260421T112901Z
LOCATION:Zeughaus Kultur\, Brig-Glis
DESCRIPTION:
SUMMARY:UDC proche de vous avec le conseiller national Michael Graber
ORGANIZER:
URL;VALUE=URI:https://www.udc.ch/actualites/agenda/udc-proche-de-vous-avec-le-conseiller-national-michael-graber-3/
TRANSP:OPAQUE
END:VEVENT
END:VCALENDAR
