

BEGIN:VCALENDAR
VERSION:2.0
PRODID:-//UDC Suisse //NONSGML Events //EN
CALSCALE:GREGORIAN
X-WR-CALNAME:UDC Suisse
BEGIN:VEVENT
CREATED:20230919T110732Z
UID:121185
DTEND:20231002T200000
DTSTART:20231002T190000
DTSTAMP:20260421T112911Z
LOCATION:Bar Mezzaluna\, Mendrisio
DESCRIPTION:
SUMMARY:UDC proche de vous avec le conseiller aux états Marco Chiesa et le conseiller national Piero Marchesi
ORGANIZER:
URL;VALUE=URI:https://www.udc.ch/actualites/agenda/udc-proche-de-vous-avec-le-conseiller-aux-etats-marco-chiesa/
TRANSP:OPAQUE
END:VEVENT
END:VCALENDAR
