

BEGIN:VCALENDAR
VERSION:2.0
PRODID:-//UDC Suisse //NONSGML Events //EN
CALSCALE:GREGORIAN
X-WR-CALNAME:UDC Suisse
BEGIN:VEVENT
CREATED:20230919T110732Z
UID:121186
DTEND:20231005T190000
DTSTART:20231005T183000
DTSTAMP:20260421T024811Z
LOCATION:Centro la Torre\, Losone
DESCRIPTION:
SUMMARY:UDC proche de vous avec le conseiller aux états Marco Chiesa et le conseiller national Piero Marchesi
ORGANIZER:
URL;VALUE=URI:https://www.udc.ch/actualites/agenda/udc-proche-de-vous-avec-le-conseiller-aux-etats-marco-chiesa-et-le-conseiller-national-piero-marchesi/
TRANSP:OPAQUE
END:VEVENT
END:VCALENDAR
