

BEGIN:VCALENDAR
VERSION:2.0
PRODID:-//UDC Suisse //NONSGML Events //EN
CALSCALE:GREGORIAN
X-WR-CALNAME:UDC Suisse
BEGIN:VEVENT
CREATED:20230919T110732Z
UID:121187
DTEND:20231006T190000
DTSTART:20231006T183000
DTSTAMP:20260421T004519Z
LOCATION:Bar Cento\, Lugano
DESCRIPTION:
SUMMARY:UDC proche de vous avec le conseiller aux états Marco Chiesa et le conseiller national Piero Marchesi
ORGANIZER:
URL;VALUE=URI:https://www.udc.ch/actualites/agenda/udc-proche-de-vous-avec-le-conseiller-aux-etats-marco-chiesa-et-le-conseiller-national-piero-marchesi-2/
TRANSP:OPAQUE
END:VEVENT
END:VCALENDAR
