

BEGIN:VCALENDAR
VERSION:2.0
PRODID:-//UDC Suisse //NONSGML Events //EN
CALSCALE:GREGORIAN
X-WR-CALNAME:UDC Suisse
BEGIN:VEVENT
CREATED:20230919T110732Z
UID:121188
DTEND:20231003T200000
DTSTART:20231003T190000
DTSTAMP:20260421T025910Z
LOCATION:Cave Badan Vins\; Aigle
DESCRIPTION:
SUMMARY:UDC proche de vous avec le conseiller national Michaël Buffat\, Jean-Pierre Grin et Jacques Nicolet
ORGANIZER:
URL;VALUE=URI:https://www.udc.ch/actualites/agenda/udc-proche-de-vous-avec-le-conseiller-national-michael-buffat-jean-pierre-grin-et-jacques-nicolet/
TRANSP:OPAQUE
END:VEVENT
END:VCALENDAR
