

BEGIN:VCALENDAR
VERSION:2.0
PRODID:-//UDC Suisse //NONSGML Events //EN
CALSCALE:GREGORIAN
X-WR-CALNAME:UDC Suisse
BEGIN:VEVENT
CREATED:20230919T110733Z
UID:121189
DTEND:20230923T130000
DTSTART:20230923T120000
DTSTAMP:20260421T042649Z
LOCATION:Eberhard Bau AG\, Oberglatt
DESCRIPTION:
SUMMARY:UDC proche de vous avec la conseillere nationale Barbara Steinemann
ORGANIZER:
URL;VALUE=URI:https://www.udc.ch/actualites/agenda/udc-proche-de-vous-avec-la-conseillere-nationale-barbara-steinemann-2/
TRANSP:OPAQUE
END:VEVENT
END:VCALENDAR
