BEGIN:VCALENDAR
VERSION:2.0
PRODID:-//UDC Suisse //NONSGML Events //EN
CALSCALE:GREGORIAN
X-WR-CALNAME:UDC Suisse
BEGIN:VEVENT
CREATED:20230919T110733Z
UID:121190
DTEND:20231029T130000
DTSTART:20231029T120000
DTSTAMP:20231021T135307Z
LOCATION:Büli Mäss\, Stadthalle Bülach
DESCRIPTION:
SUMMARY:UDC proche de vous avec la conseillere nationale Barbara Steinemann
ORGANIZER:
URL;VALUE=URI:https://www.udc.ch/actualites/agenda/udc-proche-de-vous-avec-la-conseillere-nationale-barbara-steinemann-3/
TRANSP:OPAQUE
END:VEVENT
END:VCALENDAR
