BEGIN:VCALENDAR
VERSION:2.0
PRODID:-//UDC Suisse //NONSGML Events //EN
CALSCALE:GREGORIAN
X-WR-CALNAME:UDC Suisse
BEGIN:VEVENT
CREATED:20230919T110733Z
UID:121191
DTEND:20231125T190000
DTSTART:20231125T180000
DTSTAMP:20231021T140223Z
LOCATION:Weihnachtsmarkt\, Regensdorf
DESCRIPTION:
SUMMARY:UDC proche de vous avec la conseillere nationale Barbara Steinemann
ORGANIZER:
URL;VALUE=URI:https://www.udc.ch/actualites/agenda/udc-proche-de-vous-avec-la-conseillere-nationale-barbara-steinemann-4/
TRANSP:OPAQUE
END:VEVENT
END:VCALENDAR
