

BEGIN:VCALENDAR
VERSION:2.0
PRODID:-//UDC Suisse //NONSGML Events //EN
CALSCALE:GREGORIAN
X-WR-CALNAME:UDC Suisse
BEGIN:VEVENT
CREATED:20230919T110733Z
UID:121192
DTEND:20230930T160000
DTSTART:20230930T153000
DTSTAMP:20260420T205716Z
LOCATION:beim VOI\, Geroldswil
DESCRIPTION:
SUMMARY:UDC proche de vous avec le conseiller national Martin Haab
ORGANIZER:
URL;VALUE=URI:https://www.udc.ch/actualites/agenda/udc-proche-de-vous-avec-le-conseiller-national-martin-haab/
TRANSP:OPAQUE
END:VEVENT
END:VCALENDAR
