

BEGIN:VCALENDAR
VERSION:2.0
PRODID:-//UDC Suisse //NONSGML Events //EN
CALSCALE:GREGORIAN
X-WR-CALNAME:UDC Suisse
BEGIN:VEVENT
CREATED:20230919T110734Z
UID:121193
DTEND:20231007T170000
DTSTART:20231007T160000
DTSTAMP:20260420T114443Z
LOCATION:Chilbi\, Wiesendangen
DESCRIPTION:
SUMMARY:UDC proche de vous avec le conseiller national Martin Haab
ORGANIZER:
URL;VALUE=URI:https://www.udc.ch/actualites/agenda/udc-proche-de-vous-avec-le-conseiller-national-martin-haab-2/
TRANSP:OPAQUE
END:VEVENT
END:VCALENDAR
