

BEGIN:VCALENDAR
VERSION:2.0
PRODID:-//UDC Suisse //NONSGML Events //EN
CALSCALE:GREGORIAN
X-WR-CALNAME:UDC Suisse
BEGIN:VEVENT
CREATED:20230919T110734Z
UID:121194
DTEND:20231013T190000
DTSTART:20231013T180000
DTSTAMP:20260421T165720Z
LOCATION:beim Volg\, Andelfingen
DESCRIPTION:
SUMMARY:UDC proche de vous avec le conseiller national Martin Haab
ORGANIZER:
URL;VALUE=URI:https://www.udc.ch/actualites/agenda/udc-proche-de-vous-avec-le-conseiller-national-martin-haab-3/
TRANSP:OPAQUE
END:VEVENT
END:VCALENDAR
