

BEGIN:VCALENDAR
VERSION:2.0
PRODID:-//UDC Suisse //NONSGML Events //EN
CALSCALE:GREGORIAN
X-WR-CALNAME:UDC Suisse
BEGIN:VEVENT
CREATED:20230919T110734Z
UID:121195
DTEND:20230926T170000
DTSTART:20230926T160000
DTSTAMP:20260421T042914Z
LOCATION:Meat Me\, Rebgasse 3\, Zürich
DESCRIPTION:
SUMMARY:UDC proche de vous avec le conseiller national Bruno Walliser\, Mauro Tuena\, Alfred Heer\, Thomas Matter et Gregor Rutz
ORGANIZER:
URL;VALUE=URI:https://www.udc.ch/actualites/agenda/udc-proche-de-vous-avec-le-conseiller-national-bruno-walliser-mauro-tuena-alfred-heer-thomas-matter-et-gregor-rutz/
TRANSP:OPAQUE
END:VEVENT
END:VCALENDAR
