

BEGIN:VCALENDAR
VERSION:2.0
PRODID:-//UDC Suisse //NONSGML Events //EN
CALSCALE:GREGORIAN
X-WR-CALNAME:UDC Suisse
BEGIN:VEVENT
CREATED:20230919T110734Z
UID:121197
DTEND:20231002T200000
DTSTART:20231002T193000
DTSTAMP:20260421T185433Z
LOCATION:Gemeindessaal\, Fällanden
DESCRIPTION:
SUMMARY:UDC proche de vous avec le conseiller national Bruno Walliser\, Roger Köppel et Benjamin Fischer
ORGANIZER:
URL;VALUE=URI:https://www.udc.ch/actualites/agenda/udc-proche-de-vous-avec-le-conseiller-national-bruno-walliser-roger-koppel-et-benjamin-fischer/
TRANSP:OPAQUE
END:VEVENT
END:VCALENDAR
