

BEGIN:VCALENDAR
VERSION:2.0
PRODID:-//UDC Suisse //NONSGML Events //EN
CALSCALE:GREGORIAN
X-WR-CALNAME:UDC Suisse
BEGIN:VEVENT
CREATED:20230919T110734Z
UID:121198
DTEND:20231004T200000
DTSTART:20231004T190000
DTSTAMP:20260421T042829Z
LOCATION:Cavalleria\, Reitplatz\, Uster
DESCRIPTION:
SUMMARY:UDC proche de vous avec le conseiller national Bruno Walliser et Gregor Rutz
ORGANIZER:
URL;VALUE=URI:https://www.udc.ch/actualites/agenda/udc-proche-de-vous-avec-le-conseiller-national-bruno-walliser-et-gregor-rutz/
TRANSP:OPAQUE
END:VEVENT
END:VCALENDAR
