BEGIN:VCALENDAR
VERSION:2.0
PRODID:-//UDC Suisse //NONSGML Events //EN
CALSCALE:GREGORIAN
X-WR-CALNAME:UDC Suisse
BEGIN:VEVENT
CREATED:20230919T110734Z
UID:121200
DTEND:20231027T170000
DTSTART:20231027T160000
DTSTAMP:20231021T134618Z
LOCATION:Büli Mäss\, Stadthalle Bülach
DESCRIPTION:
SUMMARY:UDC proche de vous avec la conseillere nationale Therese Schläpfer
ORGANIZER:
URL;VALUE=URI:https://www.udc.ch/actualites/agenda/udc-proche-de-vous-avec-la-conseillere-nationale-therese-schlapfer-3/
TRANSP:OPAQUE
END:VEVENT
END:VCALENDAR
