

BEGIN:VCALENDAR
VERSION:2.0
PRODID:-//UDC Suisse //NONSGML Events //EN
CALSCALE:GREGORIAN
X-WR-CALNAME:UDC Suisse
BEGIN:VEVENT
CREATED:20230919T110734Z
UID:121201
DTEND:20231004T190000
DTSTART:20231004T183000
DTSTAMP:20260423T091013Z
LOCATION:Restaurant Sonnenhof\, Hagenbuch
DESCRIPTION:
SUMMARY:UDC proche de vous avec la conseillere nationale Therese Schläpfer et le conseiller national Alfred Heer
ORGANIZER:
URL;VALUE=URI:https://www.udc.ch/actualites/agenda/udc-proche-de-vous-avec-la-conseillere-nationale-therese-schlapfer-et-le-conseiller-national-alfred-heer/
TRANSP:OPAQUE
END:VEVENT
END:VCALENDAR
