

BEGIN:VCALENDAR
VERSION:2.0
PRODID:-//UDC Suisse //NONSGML Events //EN
CALSCALE:GREGORIAN
X-WR-CALNAME:UDC Suisse
BEGIN:VEVENT
CREATED:20230919T110735Z
UID:121204
DTEND:20230929T180000
DTSTART:20230929T173000
DTSTAMP:20260421T061329Z
LOCATION:Gasthof Hirschen\, Hinwil
DESCRIPTION:
SUMMARY:UDC proche de vous avec le conseiller national Benjamin Fischer
ORGANIZER:
URL;VALUE=URI:https://www.udc.ch/actualites/agenda/udc-proche-de-vous-avec-le-conseiller-national-benjamin-fischer-4/
TRANSP:OPAQUE
END:VEVENT
END:VCALENDAR
